BEGIN:VCALENDAR
VERSION:2.0
PRODID:-//Institute of Operational Privacy Design - ECPv6.15.20//NONSGML v1.0//EN
CALSCALE:GREGORIAN
METHOD:PUBLISH
X-ORIGINAL-URL:https://instituteofprivacydesign.org
X-WR-CALDESC:Events for Institute of Operational Privacy Design
REFRESH-INTERVAL;VALUE=DURATION:PT1H
X-Robots-Tag:noindex
X-PUBLISHED-TTL:PT1H
BEGIN:VTIMEZONE
TZID:America/New_York
BEGIN:DAYLIGHT
TZOFFSETFROM:-0500
TZOFFSETTO:-0400
TZNAME:EDT
DTSTART:20230312T070000
END:DAYLIGHT
BEGIN:STANDARD
TZOFFSETFROM:-0400
TZOFFSETTO:-0500
TZNAME:EST
DTSTART:20231105T060000
END:STANDARD
BEGIN:DAYLIGHT
TZOFFSETFROM:-0500
TZOFFSETTO:-0400
TZNAME:EDT
DTSTART:20240310T070000
END:DAYLIGHT
BEGIN:STANDARD
TZOFFSETFROM:-0400
TZOFFSETTO:-0500
TZNAME:EST
DTSTART:20241103T060000
END:STANDARD
BEGIN:DAYLIGHT
TZOFFSETFROM:-0500
TZOFFSETTO:-0400
TZNAME:EDT
DTSTART:20250309T070000
END:DAYLIGHT
BEGIN:STANDARD
TZOFFSETFROM:-0400
TZOFFSETTO:-0500
TZNAME:EST
DTSTART:20251102T060000
END:STANDARD
END:VTIMEZONE
BEGIN:VEVENT
DTSTART;TZID=America/New_York:20240219T090000
DTEND;TZID=America/New_York:20240220T160000
DTSTAMP:20260422T072256
CREATED:20240212T231939Z
LAST-MODIFIED:20240219T133617Z
UID:6026-1708333200-1708444800@instituteofprivacydesign.org
SUMMARY:Artificial Intelligence Governance (AIGP)
DESCRIPTION:This training teaches critical artificial intelligence governance concepts that are also integral to the AIGP certification exam. While not purely a “test prep” course\, this training is appropriate for professionals who plan to certify\, as well as for those who want to deepen their AI governance knowledge. Both the training and the exam are based on the same body of knowledge. \n  \nWHAT YOU WILL LEARN: \nAIGP training teaches how to develop\, integrate and deploy trustworthy AI systems in line with emerging laws and policies. The curriculum provides an overview of AI technology\, survey of current law\, and strategies for risk management\, among many other relevant topics. \n  \nMODULES: \n\nModule 1: Foundations of artificial intelligence\nDefines AI and machine learning\, presents an overview of the different types of AI systems and their use cases\, and\npositions AI models in the broader socio-cultural context.\nModule 2: AI impacts on people and responsible AI principles\nOutlines the core risks and harms posed by AI systems\, the characteristics of trustworthy AI systems\, and the\nprinciples essential to responsible and ethical AI.\nModule 3: AI development life cycle\nDescribes the AI development life cycle and the broad context in which AI risks are managed.\nModule 4: Implementing responsible AI governance and risk management\nExplains how major AI stakeholders collaborate in a layered approach to manage AI risks while acknowledging AI\nsystems’ potential societal benefits.\nModule 5: Implementing AI projects and systems\nOutlines mapping\, planning and scoping AI projects\, testing and validating AI systems during development\, and\nmanaging and monitoring AI systems after deployment.\nModule 6: Current laws that apply to AI systems\nSurveys the existing laws that govern the use of AI\, outlines key GDPR intersections\, and provides awareness of\nliability reform\nModule 7: Existing and emerging AI laws and standards\nDescribes global AI-specific laws and the major frameworks and standards that exemplify how AI systems can be\nresponsibly governed.\nModule 8: Ongoing AI issues and concerns\nPresents current discussions and ideas about AI governance\, including awareness of legal issues\, user concerns\, and AI auditing and accountability issues.\n\n  \n\n  \n*Certification Study Group voucher must be used within three months of taking the course. \n**The IAPP exam must be taken within three months of the release of the exam (anticipated release in 1st quarter of 2024). Refresher course must be taken within three months of completing the IAPP exam. \n*** 1 Year Membership valid with first course taken with Privacy Ref \n  \n*** Links to Privacy Ref Include Web Tracking***
URL:https://instituteofprivacydesign.org/event/artificial-intelligence-governance-aigp-utm_sourceiopdutm_mediumwebsiteutm_campaigniopdq1-2024/
LOCATION:Hybrid (Online & In-Person)
CATEGORIES:#privacytraining,#AIGP
ATTACH;FMTTYPE=image/png:https://instituteofprivacydesign.org/wp-content/uploads/2024/02/65c4fddd1fe64-1.png
ORGANIZER;CN="Privacy Ref":MAILTO:info@privacyref.com
END:VEVENT
BEGIN:VEVENT
DTSTART;TZID=America/New_York:20240220T090000
DTEND;TZID=America/New_York:20240223T170000
DTSTAMP:20260422T072256
CREATED:20240119T102000Z
LAST-MODIFIED:20240123T213104Z
UID:5524-1708419600-1708707600@instituteofprivacydesign.org
SUMMARY:Symptai Live Online CIPM Training
DESCRIPTION:The CIPM program was developed by the International Association of Privacy Professionals (IAPP)\, which is the world’s largest comprehensive global information privacy community and resource. The CIPM certification also holds accreditation under ISO 17024: 2012. \nThese instructor-led training sessions are beneficial for persons who plan to certify or just want to deepen your privacy knowledge. And\, in the ever-changing privacy environment\, as new legislation such as the GDPR and the CCPA comes along\, you will be fully prepared. \n  \n\nWhat will you learn\n\nModule 1: Introduction to privacy program management\nModule 2: Privacy governance\nModule 3: Applicable laws and regulations\nModule 4: Data assessments\nModule 5: Policies\nModule 6: Data subject rights\nModule 7: Training and awareness\nModule 8: Protecting personal information\nModule 9: Data breach incident plans\nModule 10: Measuring\, monitoring and auditing program performance\n\n  \n\n\nWho should attend?\n\nData Protection Officers\nData Protection Managers\nAuditors\nLegal Compliance Officers\nSecurity Manager\nInformation Managers\nAnyone involved with data protection processes and programs\n\n  \n\n\nWhat comes with registration?\nOnce registered for this course\, participants will also be registered as an official member of the IAPP and receive official members access to the training/course material for the CIPM exam and an exam voucher in order to register for the exam. This course will prepare persons to sit the CIPM exam and have a comprehensive understanding of privacy in an organization and how to manage it. \n  \n\nWhy organizations should implement training?\n\nComply with GDPR requirements\nAvoid penalties up to 20 million euros (25 million USD) or 4% of global revenues\nImprove the way your entire organization handles data\nReduce risk of a data breach\nBuild privacy policies to make your organization more cost-effective\nDemonstrate accountability and due diligence\nFoster customer confidence
URL:https://instituteofprivacydesign.org/event/iapp-cipm-virtual-feb-20-23/
LOCATION:Virtual
CATEGORIES:#privacytraining,#CIPM
ATTACH;FMTTYPE=image/png:https://instituteofprivacydesign.org/wp-content/uploads/2024/01/logo.png
END:VEVENT
END:VCALENDAR