BEGIN:VCALENDAR
VERSION:2.0
PRODID:-//Institute of Operational Privacy Design - ECPv6.15.20//NONSGML v1.0//EN
CALSCALE:GREGORIAN
METHOD:PUBLISH
X-ORIGINAL-URL:https://instituteofprivacydesign.org
X-WR-CALDESC:Events for Institute of Operational Privacy Design
REFRESH-INTERVAL;VALUE=DURATION:PT1H
X-Robots-Tag:noindex
X-PUBLISHED-TTL:PT1H
BEGIN:VTIMEZONE
TZID:America/New_York
BEGIN:DAYLIGHT
TZOFFSETFROM:-0500
TZOFFSETTO:-0400
TZNAME:EDT
DTSTART:20230312T070000
END:DAYLIGHT
BEGIN:STANDARD
TZOFFSETFROM:-0400
TZOFFSETTO:-0500
TZNAME:EST
DTSTART:20231105T060000
END:STANDARD
BEGIN:DAYLIGHT
TZOFFSETFROM:-0500
TZOFFSETTO:-0400
TZNAME:EDT
DTSTART:20240310T070000
END:DAYLIGHT
BEGIN:STANDARD
TZOFFSETFROM:-0400
TZOFFSETTO:-0500
TZNAME:EST
DTSTART:20241103T060000
END:STANDARD
BEGIN:DAYLIGHT
TZOFFSETFROM:-0500
TZOFFSETTO:-0400
TZNAME:EDT
DTSTART:20250309T070000
END:DAYLIGHT
BEGIN:STANDARD
TZOFFSETFROM:-0400
TZOFFSETTO:-0500
TZNAME:EST
DTSTART:20251102T060000
END:STANDARD
END:VTIMEZONE
BEGIN:VEVENT
DTSTART;TZID=America/New_York:20241209T090000
DTEND;TZID=America/New_York:20241210T160000
DTSTAMP:20260423T062034
CREATED:20240807T125840Z
LAST-MODIFIED:20240807T130403Z
UID:6993-1733734800-1733846400@instituteofprivacydesign.org
SUMMARY:Artificial Intelligence Governance (AIGP)
DESCRIPTION:This training teaches critical artificial intelligence governance concepts that are also integral to the AIGP certification exam. While not purely a “test prep” course\, this training is appropriate for professionals who plan to certify\, as well as for those who want to deepen their AI governance knowledge. Both the training and the exam are based on the same body of knowledge. \nWHAT YOU WILL LEARN: \nAIGP training teaches how to develop\, integrate and deploy trustworthy AI systems in line with emerging laws and policies. The curriculum provides an overview of AI technology\, survey of current law\, and strategies for risk management\, among many other relevant topics. \nMODULES: \n\nModule 1: Foundations of artificial intelligence\nDefines AI and machine learning\, presents an overview of the different types of AI systems and their use cases\, and\npositions AI models in the broader socio-cultural context.\nModule 2: AI impacts on people and responsible AI principles\nOutlines the core risks and harms posed by AI systems\, the characteristics of trustworthy AI systems\, and the\nprinciples essential to responsible and ethical AI.\nModule 3: AI development life cycle\nDescribes the AI development life cycle and the broad context in which AI risks are managed.\nModule 4: Implementing responsible AI governance and risk management\nExplains how major AI stakeholders collaborate in a layered approach to manage AI risks while acknowledging AI\nsystems’ potential societal benefits.\nModule 5: Implementing AI projects and systems\nOutlines mapping\, planning and scoping AI projects\, testing and validating AI systems during development\, and\nmanaging and monitoring AI systems after deployment.\nModule 6: Current laws that apply to AI systems\nSurveys the existing laws that govern the use of AI\, outlines key GDPR intersections\, and provides awareness of\nliability reform\nModule 7: Existing and emerging AI laws and standards\nDescribes global AI-specific laws and the major frameworks and standards that exemplify how AI systems can be\nresponsibly governed.\nModule 8: Ongoing AI issues and concerns\nPresents current discussions and ideas about AI governance\, including awareness of legal issues\, user concerns\, and AI auditing and accountability issues.\n\n \nCLASS MATERIALS INCLUDE: \n\nTwo full days of training\nElectronic and hardcopy version of the participant guide\nA 1-year IAPP membership with first class (applied to renewal for current IAPP members)\nVoucher to sit for the certification exam\nVoucher for a Certification Study Group*\nOptional refresher course should you fail the IAPP exam **\n\n\n* Certification Study Group voucher must be used within three months of taking the course. \n** The IAPP exam must be taken within three months of completion of the class. Refresher course must be taken within three months of completing the IAPP exam. \n*** 1 Year Membership valid with first course taken with Privacy Ref
URL:https://instituteofprivacydesign.org/event/artificial-intelligence-governance-3/
LOCATION:Hybrid (Online & In-Person)
CATEGORIES:#privacytraining,#AIGP
ATTACH;FMTTYPE=image/png:https://instituteofprivacydesign.org/wp-content/uploads/2024/02/65c4fddd1fe64-1.png
ORGANIZER;CN="Privacy Ref":MAILTO:info@privacyref.com
END:VEVENT
BEGIN:VEVENT
DTSTART;TZID=America/New_York:20241213T130000
DTEND;TZID=America/New_York:20241213T150000
DTSTAMP:20260423T062034
CREATED:20241115T181226Z
LAST-MODIFIED:20241115T181226Z
UID:7837-1734094800-1734102000@instituteofprivacydesign.org
SUMMARY:Certification Study Group - Artificial Intelligence Governance (AIGP)
DESCRIPTION:There are many ways to prepare for taking a certification exam from the International Association of Privacy Professionals. No matter how you study\, there always seem to be some questions that remain. Privacy Ref can help. \nCome prepared to this 2-hour session with questions or areas related to the exam that you want to review. We will be making use of the exam blueprint and body of knowledge provided by the IAPP to focus our discussion.
URL:https://instituteofprivacydesign.org/event/certification-study-group-artificial-intelligence-governance-aigp-7/
LOCATION:Online
CATEGORIES:#privacytraining,#AIGP,#certificationstudygroup
ATTACH;FMTTYPE=image/png:https://instituteofprivacydesign.org/wp-content/uploads/2024/02/65c4fddd1fe64-1.png
ORGANIZER;CN="Privacy Ref":MAILTO:info@privacyref.com
END:VEVENT
BEGIN:VEVENT
DTSTART;TZID=America/New_York:20241216T090000
DTEND;TZID=America/New_York:20241217T160000
DTSTAMP:20260423T062034
CREATED:20240807T132439Z
LAST-MODIFIED:20240807T132439Z
UID:7009-1734339600-1734451200@instituteofprivacydesign.org
SUMMARY:U.S. Private-Sector Privacy (CIPP/US)
DESCRIPTION:U.S. Private-Sector Privacy CIPP/US provides an overview of data protection laws and regulations in the U.S and an understanding of the legal requirements for the responsible transfer of sensitive personal data to/from the U.S.\, the EU and other jurisdictions. The U.S. Private-Sector Privacy CIPP/US program was the first professional certification ever to be offered in information privacy. The CIPP/US credential demonstrates a strong foundation in U.S. privacy laws and regulations. \nThe content of the U.S. Private-Sector Privacy CIPP/US courses is integral to broadening your knowledge\, educating your privacy team\, and put you on the path to obtaining your privacy certifications. \nCourse Outline: \n\nModule 1: Foundations of privacy and data protection\nModule 2: Comprehensive privacy data protection laws\nModule 3: U.S. legal framework\nModule 4: Enforcement of U.S. privacy and security laws\nModule 5: Information management from a U.S. perspective\nModule 6: Government and court access to private-sector information\nModule 7: State data privacy and security laws\nModule 8: Telecommunications and marketing\nModule 9: Health care\nModule 10: Children’s privacy\nModule 11: Financial privacy\nModule 12: Privacy in the workplace\n\n \nClass materials include: \n\nTwo full days of training\nElectronic and hardcopy version of the textbook and participant guide\nA 1-year IAPP membership with first class (applied to renewal for current IAPP members)\nVoucher to sit for the certification exam\nVoucher for a Certification Study Group*\nOptional refresher course should you fail the IAPP exam **\n\n\n* Certification Study Group voucher must be used within three months of taking the course. \n** The IAPP exam must be taken within three months of completion of the class. Refresher course must be taken within three months of completing the IAPP exam. \n*** 1 Year Membership valid with first course taken with Privacy Ref Foundation
URL:https://instituteofprivacydesign.org/event/u-s-private-sector-privacy-cipp-us-7/
LOCATION:Hybrid (Online & In-Person)
CATEGORIES:#privacytraining,#CIPP/US
ATTACH;FMTTYPE=image/png:https://instituteofprivacydesign.org/wp-content/uploads/2024/02/65c4fddd1fe64-1.png
ORGANIZER;CN="Privacy Ref":MAILTO:info@privacyref.com
END:VEVENT
BEGIN:VEVENT
DTSTART;TZID=America/New_York:20241216T090000
DTEND;TZID=America/New_York:20241219T160000
DTSTAMP:20260423T062034
CREATED:20240807T140907Z
LAST-MODIFIED:20240807T140907Z
UID:7022-1734339600-1734624000@instituteofprivacydesign.org
SUMMARY:Global Privacy Officer (CIPP/US + CIPP/E)
DESCRIPTION:U.S. Private-Sector Privacy CIPP/US provides an overview of data protection laws and regulations in the U.S and an understanding of the legal requirements for the responsible transfer of sensitive personal data to/from the U.S.\, the EU and other jurisdictions. The CIPP/US credential demonstrates a strong foundation in U.S. privacy laws and regulations. \nThe European Data Protection (CIPP/E) encompasses pan-European and national data protection laws\, key data protection terminology and practical concepts concerning the protection of personal data and trans-border data flows. The global gold standard in European data protection certification. \nCIPP/US Course Outline: \n\nModule 1: Introduction to privacy\nModule 2: Structure of U.S. law\nModule 3: General Data Protection Regulation overview\nModule 4: The California Consumer Privacy Act\nModule 5: Enforcement of U.S. privacy and security laws\nModule 6: Information management from a U.S. perspective\nModule 7: Federal versus state authority\nModule 8: Healthcare\nModule 9: Financial privacy\nModule 10: Education\nModule 11: Telecommunications and marketing\nModule 12: Law enforcement and privacy\nModule 13: National security and privacy\nModule 14: Civil litigation and privacy\nModule 15: Legal overview of workplace privacy\nModule 16: Privacy before\, during and after employment\nModule 17: State data security laws\nModule 18: Data breach notification laws\n\nCIPP/E Course outline: \n\nModule 1: Data protection laws\nModule 2: Personal data\nModule 3: Controllers and processors\nModule 4: Processing personal data\nModule 5: Data subject rights\nModule 6: Information provision obligations\nModule 7: International data transfers\nModule 8: Compliance considerations\nModule 9: Security of processing\nModule 10: Accountability\nModule 11: Supervision and enforcement\n\n \nClass materials include: \n\nFour full days of training\nElectronic and hardcopy versions of the textbook and participant guide\nA 1-year IAPP membership with first class (applied to renewal for current IAPP members)\nVoucher to sit for the certification exam\nVoucher for a Certification Study Group*\nOptional refresher course should you fail the IAPP exam **\n\n\n* Certification Study Group voucher must be used within three months of taking the course. \n** The IAPP exam must be taken within three months of the release of the exam. Refresher course must be taken within three months of completing the IAPP exam. \n*** 1 Year Membership valid with first course taken with Privacy Ref
URL:https://instituteofprivacydesign.org/event/global-privacy-officer-cipp-us-cipp-e/
LOCATION:Hybrid (Online & In-Person)
CATEGORIES:#privacytraining,#CIPP/E,#CIPP/US
ATTACH;FMTTYPE=image/png:https://instituteofprivacydesign.org/wp-content/uploads/2024/02/65c4fddd1fe64-1.png
ORGANIZER;CN="Privacy Ref":MAILTO:info@privacyref.com
END:VEVENT
BEGIN:VEVENT
DTSTART;TZID=America/New_York:20241218T090000
DTEND;TZID=America/New_York:20241219T160000
DTSTAMP:20260423T062034
CREATED:20240807T131236Z
LAST-MODIFIED:20240807T131236Z
UID:7002-1734512400-1734624000@instituteofprivacydesign.org
SUMMARY:European Data Protection (CIPP/E)
DESCRIPTION:The European Data Protection (CIPP/E) encompasses pan-European and national data protection laws\, key data protection terminology and practical concepts concerning the protection of personal data and trans-border data flows. The global gold standard in European data protection certification. \nThe content of the courses is integral to broadening your knowledge\, educating your privacy team\, and put you on the path to obtaining your privacy certifications. \nCourse outline: \n\nModule 1: Data protection laws\nModule 2: Personal data\nModule 3: Controllers and processors\nModule 4: Processing personal data\nModule 5: Data subject rights\nModule 6: Information provision obligations\nModule 7: International data transfers\nModule 8: Compliance considerations\nModule 9: Security of processing\nModule 10: Accountability\nModule 11: Supervision and enforcement\n\n \nClass materials include: \n\nTwo full days of training\nElectronic and hardcopy version of the textbook and participant guide\nA 1-year IAPP membership with first class (applied to renewal for current IAPP members)\nVoucher to sit for the certification exam\nVoucher for a Certification Study Group*\nOptional refresher course should you fail the IAPP exam **\n\n\n* Certification Study Group voucher must be used within three months of taking the course. \n** The IAPP exam must be taken within three months of completion of the class. Refresher course must be taken within three months of completing the IAPP exam. \n*** 1 Year Membership valid with first course taken with Privacy Ref
URL:https://instituteofprivacydesign.org/event/european-data-protection-cipp-e-4/
LOCATION:Hybrid (Online & In-Person)
CATEGORIES:#privacytraining,#CIPP/E
ATTACH;FMTTYPE=image/png:https://instituteofprivacydesign.org/wp-content/uploads/2024/02/65c4fddd1fe64-1.png
ORGANIZER;CN="Privacy Ref":MAILTO:info@privacyref.com
END:VEVENT
BEGIN:VEVENT
DTSTART;TZID=America/New_York:20241220T130000
DTEND;TZID=America/New_York:20241220T150000
DTSTAMP:20260423T062034
CREATED:20241115T181446Z
LAST-MODIFIED:20241115T181446Z
UID:7839-1734699600-1734706800@instituteofprivacydesign.org
SUMMARY:Certification Study Group - Privacy Program Management (CIPM)
DESCRIPTION:There are many ways to prepare for taking a certification exam from the International Association of Privacy Professionals. No matter how you study\, there always seem to be some questions that remain. Privacy Ref can help. \nCome prepared to this 2-hour session with questions or areas related to the exam that you want to review. We will be making use of the exam blueprint and body of knowledge provided by the IAPP to focus our discussion.
URL:https://instituteofprivacydesign.org/event/certification-study-group-privacy-program-management-cipm-7/
LOCATION:Online
CATEGORIES:#privacytraining,#CIPM,#certificationstudygroup
ATTACH;FMTTYPE=image/png:https://instituteofprivacydesign.org/wp-content/uploads/2024/02/65c4fddd1fe64-1.png
ORGANIZER;CN="Privacy Ref":MAILTO:info@privacyref.com
END:VEVENT
END:VCALENDAR