BEGIN:VCALENDAR
VERSION:2.0
PRODID:-//Institute of Operational Privacy Design - ECPv6.15.20//NONSGML v1.0//EN
CALSCALE:GREGORIAN
METHOD:PUBLISH
X-ORIGINAL-URL:https://instituteofprivacydesign.org
X-WR-CALDESC:Events for Institute of Operational Privacy Design
REFRESH-INTERVAL;VALUE=DURATION:PT1H
X-Robots-Tag:noindex
X-PUBLISHED-TTL:PT1H
BEGIN:VTIMEZONE
TZID:America/New_York
BEGIN:DAYLIGHT
TZOFFSETFROM:-0500
TZOFFSETTO:-0400
TZNAME:EDT
DTSTART:20230312T070000
END:DAYLIGHT
BEGIN:STANDARD
TZOFFSETFROM:-0400
TZOFFSETTO:-0500
TZNAME:EST
DTSTART:20231105T060000
END:STANDARD
BEGIN:DAYLIGHT
TZOFFSETFROM:-0500
TZOFFSETTO:-0400
TZNAME:EDT
DTSTART:20240310T070000
END:DAYLIGHT
BEGIN:STANDARD
TZOFFSETFROM:-0400
TZOFFSETTO:-0500
TZNAME:EST
DTSTART:20241103T060000
END:STANDARD
BEGIN:DAYLIGHT
TZOFFSETFROM:-0500
TZOFFSETTO:-0400
TZNAME:EDT
DTSTART:20250309T070000
END:DAYLIGHT
BEGIN:STANDARD
TZOFFSETFROM:-0400
TZOFFSETTO:-0500
TZNAME:EST
DTSTART:20251102T060000
END:STANDARD
END:VTIMEZONE
BEGIN:VEVENT
DTSTART;TZID=America/New_York:20240415T090000
DTEND;TZID=America/New_York:20240416T160000
DTSTAMP:20260422T061450
CREATED:20240213T224732Z
LAST-MODIFIED:20240304T172403Z
UID:6067-1713171600-1713283200@instituteofprivacydesign.org
SUMMARY:Privacy Program Management (CIPM)
DESCRIPTION:Privacy Program Management teaches you how to create and manage a privacy program. It gives you the tools to answer day-to-day questions about privacy operations. The CIPM is the world’s first and only certification in privacy program management. When you earn a CIPM\, it shows that you know how to make a privacy program work for your organization. \nThe content of the courses is integral to broadening your knowledge\, educating your privacy team\, and put you on the path to obtaining your privacy certifications. \n  \nCourse outline: \n\nModule 1: Introduction to privacy program management\nModule 2: Privacy  Governance\nModule 3: Applicable laws and regulations\nModule 4: Data assessments\nModule 5: Policies\nModule 6: Data subject rights\nModule 7: Training and awareness\nModule 8: Protecting personal information\nModule 9: Data breach incident plans\nModule 10: Monitoring and auditing program performance\n\n  \n\n  \n*Certification Study Group voucher must be used within three months of taking the course. \n**The IAPP exam must be taken within three months of the release of the exam. Refresher course must be taken within three months of completing the IAPP exam. \n*** 1 Year Membership valid with first course taken with Privacy Ref \n  \n*** Links to Privacy Ref Include Web Tracking***
URL:https://instituteofprivacydesign.org/event/privacy-program-management-cipm-utm_sourceiopdutm_mediumwebsiteutm_campaigniopdq1-2024-2/
LOCATION:Hybrid (Online & In-Person)
CATEGORIES:#privacytraining,#CIPM
ATTACH;FMTTYPE=image/png:https://instituteofprivacydesign.org/wp-content/uploads/2024/02/65c4fddd1fe64-1.png
ORGANIZER;CN="Privacy Ref":MAILTO:info@privacyref.com
END:VEVENT
END:VCALENDAR