BEGIN:VCALENDAR
VERSION:2.0
PRODID:-//Institute of Operational Privacy Design - ECPv6.15.20//NONSGML v1.0//EN
CALSCALE:GREGORIAN
METHOD:PUBLISH
X-WR-CALNAME:Institute of Operational Privacy Design
X-ORIGINAL-URL:https://instituteofprivacydesign.org
X-WR-CALDESC:Events for Institute of Operational Privacy Design
REFRESH-INTERVAL;VALUE=DURATION:PT1H
X-Robots-Tag:noindex
X-PUBLISHED-TTL:PT1H
BEGIN:VTIMEZONE
TZID:America/New_York
BEGIN:DAYLIGHT
TZOFFSETFROM:-0500
TZOFFSETTO:-0400
TZNAME:EDT
DTSTART:20230312T070000
END:DAYLIGHT
BEGIN:STANDARD
TZOFFSETFROM:-0400
TZOFFSETTO:-0500
TZNAME:EST
DTSTART:20231105T060000
END:STANDARD
BEGIN:DAYLIGHT
TZOFFSETFROM:-0500
TZOFFSETTO:-0400
TZNAME:EDT
DTSTART:20240310T070000
END:DAYLIGHT
BEGIN:STANDARD
TZOFFSETFROM:-0400
TZOFFSETTO:-0500
TZNAME:EST
DTSTART:20241103T060000
END:STANDARD
BEGIN:DAYLIGHT
TZOFFSETFROM:-0500
TZOFFSETTO:-0400
TZNAME:EDT
DTSTART:20250309T070000
END:DAYLIGHT
BEGIN:STANDARD
TZOFFSETFROM:-0400
TZOFFSETTO:-0500
TZNAME:EST
DTSTART:20251102T060000
END:STANDARD
END:VTIMEZONE
BEGIN:VEVENT
DTSTART;TZID=America/New_York:20240502T130000
DTEND;TZID=America/New_York:20240502T140000
DTSTAMP:20260420T000003
CREATED:20240313T165147Z
LAST-MODIFIED:20240313T165147Z
UID:6406-1714654800-1714658400@instituteofprivacydesign.org
SUMMARY:Privacy and the SMBs
DESCRIPTION:With the introduction of new privacy laws\, we are frequently asked “what do I need to do?” by business owners. Recently\, the question is coming from SMB owners who are unclear if the emerging privacy laws apply to them. \n \n\nJoin Bob Siegel and Benjamin Siegel as they discuss the challenges the SMB face establishing a privacy program. \nJoin us for all our monthly webinar conversations\, where we take a deep dive into current events happening globally\, and topics that have an impact on the decision making\, processing\, or transfer of personal data. \nQuestions are welcome! Please submit them to info@privacyref.com. Contact us\, send us your comments and suggestions.
URL:https://instituteofprivacydesign.org/event/privacy-and-the-smbs/
LOCATION:Online
CATEGORIES:Speaking Engagements,Webinar
ORGANIZER;CN="Privacy Ref":MAILTO:info@privacyref.com
END:VEVENT
BEGIN:VEVENT
DTSTART;TZID=America/New_York:20240502T150000
DTEND;TZID=America/New_York:20240502T170000
DTSTAMP:20260420T000003
CREATED:20240222T141005Z
LAST-MODIFIED:20240410T194710Z
UID:6232-1714662000-1714669200@instituteofprivacydesign.org
SUMMARY:Certification Study Group - Privacy Program Management (CIPM)
DESCRIPTION:There are many ways to prepare for taking a certification exam from the International Association of Privacy Professionals. No matter how you study\, there always seem to be some questions that remain. Privacy Ref can help. \nCome prepared to this 2-hour session with questions or areas related to the exam that you want to review. We will be making use of the exam blueprint and body of knowledge provided by the IAPP to focus our discussion.
URL:https://instituteofprivacydesign.org/event/certification-study-group-privacy-program-management-cipm-2/
LOCATION:Online
CATEGORIES:#CIPM,#certificationstudygroup
ATTACH;FMTTYPE=image/png:https://instituteofprivacydesign.org/wp-content/uploads/2024/02/65c4fddd1fe64-1.png
ORGANIZER;CN="Privacy Ref":MAILTO:info@privacyref.com
END:VEVENT
END:VCALENDAR